BEGIN:VCALENDAR
VERSION:2.0
PRODID:spatie/icalendar-generator
DESCRIPTION:Events from Lycée Français International de Kyoto
X-WR-CALDESC:Events from Lycée Français International de Kyoto
REFRESH-INTERVAL;VALUE=DURATION:PT1440M
X-PUBLISHED-TTL:PT1440M
BEGIN:VTIMEZONE
TZID:Asia/Tokyo
BEGIN:STANDARD
DTSTART:20250623T000000Z
TZOFFSETFROM:+0900
TZOFFSETTO:+0900
END:STANDARD
END:VTIMEZONE
BEGIN:VTIMEZONE
TZID:UTC
BEGIN:STANDARD
DTSTART:20250725T082606Z
TZOFFSETFROM:+0000
TZOFFSETTO:+0000
END:STANDARD
END:VTIMEZONE
BEGIN:VEVENT
UID:193-185
DTSTAMP:20260421T082606Z
SUMMARY:Jour férié japonais : vendredi 20 mars : le lfikyoto sera fermé
LOCATION:
ORGANIZER;CN=Mathieu Lecacheur:MAILTO:mathieu.lecacheur@gmail.com
DTSTART;TZID=Asia/Tokyo;VALUE=DATE:20260320
DTEND;TZID=Asia/Tokyo;VALUE=DATE:20260321
X-ALT-DESC;FMTTYPE=TEXT/HTML:Jour férié japonais – vendredi 20 mars 
 📢 Rappel : En raison du jour férié japonais (équinoxe du printemps)\
 , le vendredi 20 mars\, le LFIKYOTO sera fermé et n’accueillera pas le
 s élèves ce jour-là. &amp;nbsp\; 日本の祝日：3月20日（金） 📢 
 お知らせ： 春分の日の祝日のため、3月20日（金）は京
 都国際フランス学園は休校となり、生徒の受け入れは
 ありません。 &amp;nbsp\; Japanese Public Holiday – Friday 20 March 
 📢 Reminder: Due to the Japanese public holiday (Vernal&amp;hellip\;
CATEGORIES:Jours fériés
URL;VALUE=URI:https://www.lfikyoto.org/mc-events/jour-ferie-japonais-vendre
 di-20-mars-le-lfikyoto-sera-ferme/
METHOD:PUBLISH
END:VEVENT
END:VCALENDAR